BEGIN:VCALENDAR
VERSION:2.0
PRODID:-//ChamberMaster//Event Calendar 2.0//EN
METHOD:PUBLISH
X-PUBLISHED-TTL:P3D
REFRESH-INTERVAL:P3D
CALSCALE:GREGORIAN
BEGIN:VEVENT
DTSTART:20120511T170000Z
DTEND:20120511T180000Z
X-MICROSOFT-CDO-ALLDAYEVENT:FALSE
SUMMARY:Knowledge Bites - Lunch and Learn Workshop
DESCRIPTION:Lunch and Learn workshop\n\nLyonsHR - Paula Watkins\, SPHR & Howard Price\n\nAvoiding HR Liabilities\n\n\n\nLearn about new and existing legislation that affects hiring/firing and employment processes. This information is essential for all business owners with employees!
X-ALT-DESC;FMTTYPE=text/html:Lunch and Learn workshop<br />\n<strong><span style="font-size: medium"><span style="font-family: calibri">LyonsHR - Paula Watkins\, SPHR &amp\; Howard Price</span></span></strong><br />\n<strong><span style="font-size: medium"><span style="font-family: calibri">Avoiding HR Liabilities</span></span></strong><br />\n<br />\nLearn about new&nbsp\;and existing&nbsp\;legislation that affects&nbsp\;hiring/firing and employment processes.&nbsp\;This information is essential&nbsp\;for all business owners with employees!
LOCATION:Chamber Board Room One Commerce Square Gadsden\, AL 35901
UID:e.1432.381470
SEQUENCE:3
DTSTAMP:20260425T173126Z
URL:http://gadsdenchamber.chambermaster.com/events/details/knowledge-bites-lunch-and-learn-workshop-05-11-2012-381470
END:VEVENT

END:VCALENDAR
